BEGIN:VCALENDAR
VERSION:2.0
PRODID:-//United Way of Central Oklahoma - ECPv6.15.20//NONSGML v1.0//EN
CALSCALE:GREGORIAN
METHOD:PUBLISH
X-ORIGINAL-URL:https://unitedwayokc.org
X-WR-CALDESC:Events for United Way of Central Oklahoma
REFRESH-INTERVAL;VALUE=DURATION:PT1H
X-Robots-Tag:noindex
X-PUBLISHED-TTL:PT1H
BEGIN:VTIMEZONE
TZID:America/Chicago
BEGIN:DAYLIGHT
TZOFFSETFROM:-0600
TZOFFSETTO:-0500
TZNAME:CDT
DTSTART:20250309T080000
END:DAYLIGHT
BEGIN:STANDARD
TZOFFSETFROM:-0500
TZOFFSETTO:-0600
TZNAME:CST
DTSTART:20251102T070000
END:STANDARD
BEGIN:DAYLIGHT
TZOFFSETFROM:-0600
TZOFFSETTO:-0500
TZNAME:CDT
DTSTART:20260308T080000
END:DAYLIGHT
BEGIN:STANDARD
TZOFFSETFROM:-0500
TZOFFSETTO:-0600
TZNAME:CST
DTSTART:20261101T070000
END:STANDARD
BEGIN:DAYLIGHT
TZOFFSETFROM:-0600
TZOFFSETTO:-0500
TZNAME:CDT
DTSTART:20270314T080000
END:DAYLIGHT
BEGIN:STANDARD
TZOFFSETFROM:-0500
TZOFFSETTO:-0600
TZNAME:CST
DTSTART:20271107T070000
END:STANDARD
END:VTIMEZONE
BEGIN:VEVENT
DTSTART;TZID=America/Chicago:20260617T160000
DTEND;TZID=America/Chicago:20260617T180000
DTSTAMP:20260419T082017
CREATED:20260223T163330Z
LAST-MODIFIED:20260223T163330Z
UID:116864-1781712000-1781719200@unitedwayokc.org
SUMMARY:Community & Conversation
DESCRIPTION:Women’s Leadership Society members will hear from a panel discussion. \nDetails for all events to follow in formal invitations.\nFormal invitations are mailed to members with a one-week email reminder. RSVPs to WLS@unitedwayokc.org are required for all events.
URL:https://unitedwayokc.org/event/community-conversation/
CATEGORIES:Women's Leadership Society Event
ATTACH;FMTTYPE=image/jpeg:https://unitedwayokc.org/wp-content/uploads/2026/02/Partner-Agency-discussion-scaled.jpg
END:VEVENT
BEGIN:VEVENT
DTSTART;TZID=America/Chicago:20260909T113000
DTEND;TZID=America/Chicago:20260909T130000
DTSTAMP:20260419T082017
CREATED:20260223T161235Z
LAST-MODIFIED:20260223T162601Z
UID:116852-1788953400-1788958800@unitedwayokc.org
SUMMARY:Women's Leadership Society Annual Luncheon
DESCRIPTION:Women’s Leadership Society members and their guests are invited to attend an annual membership recruitment luncheon\, where they can enjoy a delicious lunch among current and future WLS members\, followed by a motivational speaker or panel. \nDetails for all events to follow in formal invitations.\nFormal invitations are mailed to members with a one-week email reminder. RSVPs to WLS@unitedwayokc.org are required for all events.
URL:https://unitedwayokc.org/event/wls-annual-luncheon/
CATEGORIES:Women's Leadership Society Event
ATTACH;FMTTYPE=image/jpeg:https://unitedwayokc.org/wp-content/uploads/2026/02/9160174-scaled.jpg
END:VEVENT
BEGIN:VEVENT
DTSTART;TZID=America/Chicago:20261209T160000
DTEND;TZID=America/Chicago:20261209T180000
DTSTAMP:20260419T082017
CREATED:20260223T153120Z
LAST-MODIFIED:20260223T162651Z
UID:116825-1796832000-1796839200@unitedwayokc.org
SUMMARY:Jingle Mingle
DESCRIPTION:Jingle Mingle is a light-hearted holiday get-together for Women’s Leadership Society members. A collection drive takes place to benefit one of our Partner Agencies\, while members enjoy music\, festive food and drinks. \nDetails for all events to follow in formal invitations.\nFormal invitations are mailed to members with a one-week email reminder. RSVPs to WLS@unitedwayokc.org are required for all events.
URL:https://unitedwayokc.org/event/jingle-mingle-3/
CATEGORIES:Women's Leadership Society Event
ATTACH;FMTTYPE=image/jpeg:https://unitedwayokc.org/wp-content/uploads/2026/02/C090089-scaled.jpg
END:VEVENT
END:VCALENDAR