BEGIN:VCALENDAR
VERSION:2.0
PRODID:-//United Way of Central Oklahoma - ECPv6.15.20//NONSGML v1.0//EN
CALSCALE:GREGORIAN
METHOD:PUBLISH
X-ORIGINAL-URL:https://unitedwayokc.org
X-WR-CALDESC:Events for United Way of Central Oklahoma
REFRESH-INTERVAL;VALUE=DURATION:PT1H
X-Robots-Tag:noindex
X-PUBLISHED-TTL:PT1H
BEGIN:VTIMEZONE
TZID:America/Chicago
BEGIN:DAYLIGHT
TZOFFSETFROM:-0600
TZOFFSETTO:-0500
TZNAME:CDT
DTSTART:20240310T080000
END:DAYLIGHT
BEGIN:STANDARD
TZOFFSETFROM:-0500
TZOFFSETTO:-0600
TZNAME:CST
DTSTART:20241103T070000
END:STANDARD
BEGIN:DAYLIGHT
TZOFFSETFROM:-0600
TZOFFSETTO:-0500
TZNAME:CDT
DTSTART:20250309T080000
END:DAYLIGHT
BEGIN:STANDARD
TZOFFSETFROM:-0500
TZOFFSETTO:-0600
TZNAME:CST
DTSTART:20251102T070000
END:STANDARD
BEGIN:DAYLIGHT
TZOFFSETFROM:-0600
TZOFFSETTO:-0500
TZNAME:CDT
DTSTART:20260308T080000
END:DAYLIGHT
BEGIN:STANDARD
TZOFFSETFROM:-0500
TZOFFSETTO:-0600
TZNAME:CST
DTSTART:20261101T070000
END:STANDARD
END:VTIMEZONE
BEGIN:VEVENT
DTSTART;TZID=America/Chicago:20250128T180000
DTEND;TZID=America/Chicago:20250128T193000
DTSTAMP:20260419T095113
CREATED:20241217T173032Z
LAST-MODIFIED:20241217T173032Z
UID:115151-1738087200-1738092600@unitedwayokc.org
SUMMARY:United Way of Logan County 2025 Celebration
DESCRIPTION:United Way of Logan County’s Celebration recognizes the work of employee campaign coordinators\, volunteers\, donors and Partner Agencies throughout the previous year’s annual fundraising campaign. The previous year’s campaign total is also announced. \nRSVP by Jan. 21 to the Celebration by clicking the link below. \nRSVP Here
URL:https://unitedwayokc.org/event/united-way-of-logan-county-2025-celebration/
CATEGORIES:United Way of Logan County
END:VEVENT
END:VCALENDAR