BEGIN:VCALENDAR
VERSION:2.0
PRODID:-//United Way of Central Oklahoma - ECPv6.15.20//NONSGML v1.0//EN
CALSCALE:GREGORIAN
METHOD:PUBLISH
X-ORIGINAL-URL:https://unitedwayokc.org
X-WR-CALDESC:Events for United Way of Central Oklahoma
REFRESH-INTERVAL;VALUE=DURATION:PT1H
X-Robots-Tag:noindex
X-PUBLISHED-TTL:PT1H
BEGIN:VTIMEZONE
TZID:America/Chicago
BEGIN:DAYLIGHT
TZOFFSETFROM:-0600
TZOFFSETTO:-0500
TZNAME:CDT
DTSTART:20250309T080000
END:DAYLIGHT
BEGIN:STANDARD
TZOFFSETFROM:-0500
TZOFFSETTO:-0600
TZNAME:CST
DTSTART:20251102T070000
END:STANDARD
BEGIN:DAYLIGHT
TZOFFSETFROM:-0600
TZOFFSETTO:-0500
TZNAME:CDT
DTSTART:20260308T080000
END:DAYLIGHT
BEGIN:STANDARD
TZOFFSETFROM:-0500
TZOFFSETTO:-0600
TZNAME:CST
DTSTART:20261101T070000
END:STANDARD
BEGIN:DAYLIGHT
TZOFFSETFROM:-0600
TZOFFSETTO:-0500
TZNAME:CDT
DTSTART:20270314T080000
END:DAYLIGHT
BEGIN:STANDARD
TZOFFSETFROM:-0500
TZOFFSETTO:-0600
TZNAME:CST
DTSTART:20271107T070000
END:STANDARD
END:VTIMEZONE
BEGIN:VEVENT
DTSTART;TZID=America/Chicago:20260807T183000
DTEND;TZID=America/Chicago:20260807T213000
DTSTAMP:20260419T085656
CREATED:20260223T154948Z
LAST-MODIFIED:20260223T162627Z
UID:116836-1786127400-1786138200@unitedwayokc.org
SUMMARY:Raising the Stakes
DESCRIPTION:Raising the Stakes\, the biggest recruitment event Emerging Leaders host\, is a time for members to invite guests to see what becoming an Emerging Leader entails. Members and their guests are treated to casino games\, drinks\, hors d’oeuvres and a chance to win raffle prizes. Join us at Leadership Square in downtown OKC!
URL:https://unitedwayokc.org/event/raising-the-stakes-3/
CATEGORIES:Emerging Leaders Event
ATTACH;FMTTYPE=image/jpeg:https://unitedwayokc.org/wp-content/uploads/2026/02/DSC_0057-scaled.jpg
END:VEVENT
BEGIN:VEVENT
DTSTART;TZID=America/Chicago:20261022T113000
DTEND;TZID=America/Chicago:20261022T133000
DTSTAMP:20260419T085656
CREATED:20260223T155748Z
LAST-MODIFIED:20260223T162531Z
UID:116843-1792668600-1792675800@unitedwayokc.org
SUMMARY:Lunches with Leaders
DESCRIPTION:Emerging Leaders have the opportunity to hear from C-suite leaders in the community on best leadership practices. \nEmail emergingleaders@unitedwayokc.org to learn more. \n 
URL:https://unitedwayokc.org/event/lunches-with-leaders-2/
CATEGORIES:Emerging Leaders Event
ATTACH;FMTTYPE=image/jpeg:https://unitedwayokc.org/wp-content/uploads/2026/02/Image-2025-10-30T164734.248.jpg
END:VEVENT
BEGIN:VEVENT
DTSTART;TZID=America/Chicago:20261207T170000
DTEND;TZID=America/Chicago:20261207T190000
DTSTAMP:20260419T085656
CREATED:20260223T153502Z
LAST-MODIFIED:20260223T162711Z
UID:116828-1796662800-1796670000@unitedwayokc.org
SUMMARY:Senior Holiday Gala
DESCRIPTION:United Way of Central Oklahoma’s Emerging Leaders young professionals group invites you to join us for this fun\, festive event that honors individuals who participate in senior programs at our Partner Agencies. Guests will enjoy a warm holiday meal\, dancing\, gifts\, and other fun surprises!
URL:https://unitedwayokc.org/event/senior-holiday-gala-3/
CATEGORIES:Emerging Leaders Event
ATTACH;FMTTYPE=image/jpeg:https://unitedwayokc.org/wp-content/uploads/2026/02/IMG_2357-scaled-e1771861011879.jpg
END:VEVENT
END:VCALENDAR